BEGIN:VCALENDAR
VERSION:2.0
METHOD:PUBLISH
PRODID:-//Telerik Inc.//Sitefinity CMS 13.2//EN
BEGIN:VTIMEZONE
TZID:W. Australia Standard Time
BEGIN:STANDARD
DTSTART;VALUE=DATE:20250101
TZNAME:W. Australia Standard Time
TZOFFSETFROM:+0800
TZOFFSETTO:+0800
END:STANDARD
END:VTIMEZONE
BEGIN:VEVENT
DESCRIPTION:When:Wednesday 13 May 2026 6:00 PM - 7:00 PMLocation:High Wycom
 be Library15 Markham Road\, High Wycombe\,&nbsp\; Western Australia 6057FR
 EE event\, bookings essential.https://www.trybooking.com/DLHSFBOOK NOW
DTEND:20260513T110000Z
DTSTAMP:20260423T101516Z
DTSTART:20260513T100000Z
LOCATION:High Wycombe Library - 15 Markham Road\, High Wycombe\,  Western A
 ustralia 6057
SEQUENCE:0
SUMMARY:Book Launch - Circadian Web: The Space of Time by Alistair Conwell
UID:RFCALITEM639125361163488230
X-ALT-DESC;FMTTYPE=text/html:<div data-olk-copy-source="MessageBody"><p><st
 rong>When:</strong></p><p>Wednesday 13 May 2026 6:00 PM - 7:00 PM</p></div
 ><div><p><strong>Location:</strong><strong></strong></p></div><div><p>High
  Wycombe Library<br>15 Markham Road\, High Wycombe\,&nbsp\; Western Austra
 lia 6057</p></div><div><div><p>FREE event\, bookings essential.</p></div><
 div><p><a href="https://www.trybooking.com/DLHSF" target="_blank" rel="noo
 pener noreferrer" data-auth="NotApplicable" id="OWAf14a0a01-137d-4e7d-9f6d
 -3d95bb7208c6" data-linkindex="0" title="https://www.trybooking.com/DLHSF"
 >https://www.trybooking.com/DLHSF</a></p><p><a class="btn btn--primary" hr
 ef="https://www.trybooking.com/DLHSF" target="_blank">BOOK NOW</a></p></di
 v></div>
END:VEVENT
END:VCALENDAR
